BEGIN:VCALENDAR
VERSION:2.0
PRODID:-//jEvents 2.0 for Joomla//EN
CALSCALE:GREGORIAN
METHOD:PUBLISH
BEGIN:VTIMEZONE
TZID:Europe/Berlin
END:VTIMEZONE
BEGIN:VEVENT
UID:08d295cf795dfb977e1f1e9ee4709c62
CATEGORIES:Abgesagt
CREATED:20220818T203533
SUMMARY:E N T F Ä L L T - ABGESAGT mangels Meldungen RC Laser RL-Regatta Dümmer See 2022
LOCATION:Dümmer See
DESCRIPTION:RC Laser RL-Regatta Dümmer See 2022 im SCD
DTSTAMP:20260425T104830
DTSTART;TZID=Europe/Berlin;VALUE=DATE:20220925
DTEND;TZID=Europe/Berlin;VALUE=DATE:20220926
SEQUENCE:0
TRANSP:OPAQUE
END:VEVENT
END:VCALENDAR