BEGIN:VCALENDAR
VERSION:2.0
PRODID:-//jEvents 2.0 for Joomla//EN
CALSCALE:GREGORIAN
METHOD:PUBLISH
BEGIN:VTIMEZONE
TZID:Europe/Berlin
END:VTIMEZONE
BEGIN:VEVENT
UID:e7010e4aa1fb63dad5cb27477e88cd0a
CATEGORIES:Seminar/Schulung
CREATED:20251014T124708
SUMMARY:Mitgliederversammlung DKVRCS e.V. 
LOCATION:Dümmer See\, SC Dümmer
DESCRIPTION:
DTSTAMP:20260419T151757
DTSTART;TZID=Europe/Berlin:20260425T170000
DTEND;TZID=Europe/Berlin:20260425T183000
SEQUENCE:0
TRANSP:OPAQUE
END:VEVENT
END:VCALENDAR