BEGIN:VCALENDAR
VERSION:2.0
PRODID:-//jEvents 2.0 for Joomla//EN
CALSCALE:GREGORIAN
METHOD:PUBLISH
BEGIN:VTIMEZONE
TZID:Europe/Berlin
END:VTIMEZONE
BEGIN:VEVENT
UID:7ba8856ead27a19a1365c81d189d8f62
CATEGORIES:Rangliste
CREATED:20260420T094202
SUMMARY:Regatta Week 2026 Lenzerheide
LOCATION:kleiner Heidsee
DESCRIPTION:
DTSTAMP:20260420T120806
DTSTART;TZID=Europe/Berlin;VALUE=DATE:20260822
DTEND;TZID=Europe/Berlin;VALUE=DATE:20260831
SEQUENCE:0
TRANSP:OPAQUE
END:VEVENT
END:VCALENDAR