BEGIN:VCALENDAR
VERSION:2.0
PRODID:-//jEvents 2.0 for Joomla//EN
CALSCALE:GREGORIAN
METHOD:PUBLISH
BEGIN:VTIMEZONE
TZID:Europe/Berlin
END:VTIMEZONE
BEGIN:VEVENT
UID:532a61daf8afce4895f08fd2e5a15851
CATEGORIES:Rangliste
CREATED:20260424T091007
SUMMARY:IOM RaceDays 26
LOCATION:kleiner Heidsee
DESCRIPTION:SwissCup 2026\nAnmeldungen Direct über NOR / Teilnahme nach Eingang der Anm
 eldung MAX 25 Plätze\nACHTUNG! Alle Skipper sind verpflichtet Quggamuschen 
 freie (gereinigte Boote) Einzusetzen)!\nATTENTION: All skippers are obliged
  to use QUAGGA shells (cleaned boats)!\nATTENTION : Tous les skippers sont 
 obligés de mettre des QUAGGA moules (bateaux nettoyés) !\nATTENZIONE: Tutti
  gli skipper sono obbligati ad utilizzare Conchiglie QUAGGA  (barche pulite
 )\n\n\n
X-ALT-DESC;FMTTYPE=text/html:<p><strong>SwissCup 2026</strong></p><p><strong>Anmeldungen Direct über NOR
  / Teilnahme nach Eingang der Anmeldung MAX 25 Plätze</strong></p><p><stron
 g>ACHTUNG! Alle Skipper sind verpflichtet Quggamuschen freie (gereinigte Bo
 ote) Einzusetzen)!<br />ATTENTION: All skippers are obliged to use QUAGGA s
 hells (cleaned boats)!<br />ATTENTION : Tous les skippers sont obligés de m
 ettre des QUAGGA moules (bateaux nettoyés) !<br />ATTENZIONE: Tutti gli ski
 pper sono obbligati ad utilizzare Conchiglie QUAGGA&nbsp; (barche pulite)<b
 r /><br /></strong></p>
X-EXTRAINFO:Fleet Regatta Max 25. Skipper
DTSTAMP:20260425T124800
DTSTART;TZID=Europe/Berlin;VALUE=DATE:20260829
DTEND;TZID=Europe/Berlin;VALUE=DATE:20260831
SEQUENCE:0
TRANSP:OPAQUE
END:VEVENT
END:VCALENDAR