BEGIN:VCALENDAR
VERSION:2.0
PRODID:-//jEvents 2.0 for Joomla//EN
CALSCALE:GREGORIAN
METHOD:PUBLISH
BEGIN:VTIMEZONE
TZID:Europe/Berlin
END:VTIMEZONE
BEGIN:VEVENT
UID:7a771951ccd2abd08a34e49983ac6602
CATEGORIES:Rangliste
CREATED:20260424T092155
SUMMARY:MARBLEHEAD Grison Cup
LOCATION:kleiner Heidsee
DESCRIPTION:SwissCup 2026 Fleet Race\nAnmeldungen Direct über NOR / Teilnahme nach Eing
 ang der Anmeldung MAX 25 Plätze\nACHTUNG! Alle Skipper sind verpflichtet Qu
 ggamuschen freie (gereinigte Boote) Einzusetzen)!\nATTENTION: All skippers 
 are obliged to use QUAGGA shells (cleaned boats)!\nATTENTION : Tous les ski
 ppers sont obligés de mettre des QUAGGA moules (bateaux nettoyés) !\nATTENZ
 IONE: Tutti gli skipper sono obbligati ad utilizzare Conchiglie QUAGGA  (ba
 rche pulite)\n
X-ALT-DESC;FMTTYPE=text/html:<p><strong>SwissCup 2026 Fleet Race</strong></p><p><strong>Anmeldungen Dire
 ct über NOR / Teilnahme nach Eingang der Anmeldung MAX 25 Plätze</strong></
 p><p><strong>ACHTUNG! Alle Skipper sind verpflichtet Quggamuschen freie (ge
 reinigte Boote) Einzusetzen)!<br />ATTENTION: All skippers are obliged to u
 se QUAGGA shells (cleaned boats)!<br />ATTENTION : Tous les skippers sont o
 bligés de mettre des QUAGGA moules (bateaux nettoyés) !<br />ATTENZIONE: Tu
 tti gli skipper sono obbligati ad utilizzare Conchiglie QUAGGA&nbsp; (barch
 e pulite)</strong></p>
DTSTAMP:20260425T124908
DTSTART;TZID=Europe/Berlin;VALUE=DATE:20260822
DTEND;TZID=Europe/Berlin;VALUE=DATE:20260824
SEQUENCE:0
TRANSP:OPAQUE
END:VEVENT
END:VCALENDAR