BEGIN:VCALENDAR
VERSION:2.0
PRODID:-//jEvents 2.0 for Joomla//EN
CALSCALE:GREGORIAN
METHOD:PUBLISH
BEGIN:VTIMEZONE
TZID:Europe/Berlin
END:VTIMEZONE
BEGIN:VEVENT
UID:91bf206eeb0ca5e71c9c24ba59d56f84
CATEGORIES:Freundschaft
CREATED:20260424T093754
SUMMARY:A Class Trophy
LOCATION:kleiner Heidsee
DESCRIPTION:Regatta Fleet Race\nAnmeldungen Direct über NOR / Teilnahme nach Eingang de
 r Anmeldung MAX 25 Plätze\nACHTUNG! Alle Skipper sind verpflichtet Quggamus
 chen freie (gereinigte Boote) Einzusetzen)!\nATTENTION: All skippers are ob
 liged to use QUAGGA shells (cleaned boats)!\nATTENTION : Tous les skippers 
 sont obligés de mettre des QUAGGA moules (bateaux nettoyés) !\nATTENZIONE: 
 Tutti gli skipper sono obbligati ad utilizzare Conchiglie QUAGGA  (barche p
 ulite)\n \n
X-ALT-DESC;FMTTYPE=text/html:<p><strong>Regatta Fleet Race</strong></p><p><strong>Anmeldungen Direct übe
 r NOR / Teilnahme nach Eingang der Anmeldung MAX 25 Plätze</strong></p><p><
 strong>ACHTUNG! Alle Skipper sind verpflichtet Quggamuschen freie (gereinig
 te Boote) Einzusetzen)!<br />ATTENTION: All skippers are obliged to use QUA
 GGA shells (cleaned boats)!<br />ATTENTION : Tous les skippers sont obligés
  de mettre des QUAGGA moules (bateaux nettoyés) !<br />ATTENZIONE: Tutti gl
 i skipper sono obbligati ad utilizzare Conchiglie QUAGGA&nbsp; (barche puli
 te)</strong></p><p>&nbsp;</p>
DTSTAMP:20260425T124800
DTSTART;TZID=Europe/Berlin;VALUE=DATE:20260827
DTEND;TZID=Europe/Berlin;VALUE=DATE:20260828
SEQUENCE:0
TRANSP:OPAQUE
END:VEVENT
END:VCALENDAR