BEGIN:VCALENDAR
VERSION:2.0
PRODID:-//jEvents 2.0 for Joomla//EN
CALSCALE:GREGORIAN
METHOD:PUBLISH
BEGIN:VTIMEZONE
TZID:Europe/Berlin
BEGIN:STANDARD
DTSTART:20181028T020000
RDATE:20190331T030000
TZOFFSETFROM:+0200
TZOFFSETTO:+0100
TZNAME:Europe/Berlin CET
END:STANDARD
BEGIN:STANDARD
DTSTART:20191027T020000
RDATE:20200329T030000
TZOFFSETFROM:+0200
TZOFFSETTO:+0100
TZNAME:Europe/Berlin CET
END:STANDARD
BEGIN:STANDARD
DTSTART:20201025T020000
RDATE:20210328T030000
TZOFFSETFROM:+0200
TZOFFSETTO:+0100
TZNAME:Europe/Berlin CET
END:STANDARD
BEGIN:DAYLIGHT
DTSTART:20180913T110000
RDATE:20181028T020000
TZOFFSETFROM:+0100
TZOFFSETTO:+0200
TZNAME:Europe/Berlin CEST
END:DAYLIGHT
BEGIN:DAYLIGHT
DTSTART:20190331T030000
RDATE:20191027T020000
TZOFFSETFROM:+0100
TZOFFSETTO:+0200
TZNAME:Europe/Berlin CEST
END:DAYLIGHT
BEGIN:DAYLIGHT
DTSTART:20200329T030000
RDATE:20201025T020000
TZOFFSETFROM:+0100
TZOFFSETTO:+0200
TZNAME:Europe/Berlin CEST
END:DAYLIGHT
END:VTIMEZONE
BEGIN:VEVENT
UID:4743b06bd846ec03bcb74ded9b86a201
CATEGORIES:Freundschaft
CREATED:20190130T202034
SUMMARY:Open Belgium Marblehead Cup 2019
DESCRIPTION:<table border='0'><tr><td class='label'>Veranstalter : </td><td>RCZEILEN\n<
 /td></tr><tr><td class='label'>Ausrichter : </td><td>RCZ\n</td></tr><tr><td
  class='label'>Klassen : </td><td>M\n</td></tr></table>
DTSTAMP:20260419T144826
DTSTART;TZID=Europe/Berlin:20190914T110000
DTEND;TZID=Europe/Berlin:20190915T153000
SEQUENCE:0
TRANSP:OPAQUE
END:VEVENT
END:VCALENDAR