BEGIN:VCALENDAR
VERSION:2.0
PRODID:-//jEvents 2.0 for Joomla//EN
CALSCALE:GREGORIAN
METHOD:PUBLISH
BEGIN:VTIMEZONE
TZID:Europe/Berlin
BEGIN:STANDARD
DTSTART:20171029T020000
RDATE:20180325T030000
TZOFFSETFROM:+0200
TZOFFSETTO:+0100
TZNAME:Europe/Berlin CET
END:STANDARD
BEGIN:STANDARD
DTSTART:20181028T020000
RDATE:20190331T030000
TZOFFSETFROM:+0200
TZOFFSETTO:+0100
TZNAME:Europe/Berlin CET
END:STANDARD
BEGIN:STANDARD
DTSTART:20191027T020000
RDATE:20200329T030000
TZOFFSETFROM:+0200
TZOFFSETTO:+0100
TZNAME:Europe/Berlin CET
END:STANDARD
BEGIN:STANDARD
DTSTART:20201025T020000
RDATE:20210328T030000
TZOFFSETFROM:+0200
TZOFFSETTO:+0100
TZNAME:Europe/Berlin CET
END:STANDARD
BEGIN:DAYLIGHT
DTSTART:20171012T100000
RDATE:20171029T020000
TZOFFSETFROM:+0100
TZOFFSETTO:+0200
TZNAME:Europe/Berlin CEST
END:DAYLIGHT
BEGIN:DAYLIGHT
DTSTART:20180325T030000
RDATE:20181028T020000
TZOFFSETFROM:+0100
TZOFFSETTO:+0200
TZNAME:Europe/Berlin CEST
END:DAYLIGHT
BEGIN:DAYLIGHT
DTSTART:20190331T030000
RDATE:20191027T020000
TZOFFSETFROM:+0100
TZOFFSETTO:+0200
TZNAME:Europe/Berlin CEST
END:DAYLIGHT
BEGIN:DAYLIGHT
DTSTART:20200329T030000
RDATE:20201025T020000
TZOFFSETFROM:+0100
TZOFFSETTO:+0200
TZNAME:Europe/Berlin CEST
END:DAYLIGHT
END:VTIMEZONE
BEGIN:VEVENT
UID:e1b8942d76ba34b65b671cad9207ff3a
CATEGORIES:Rangliste
CREATED:20180217T150334
SUMMARY:Class 65 RL Groß Sarau 2, Rz See
LOCATION:Groß Sarau SCH
DESCRIPTION:Veranstalter : Michael Goldbach\nAusrichter : SCH\nKlassen : RG65\n
X-ALT-DESC;FMTTYPE=text/html:<table border='0'><tr><td class='label'>Veranstalter : </td><td>Michael Gol
 dbach\n</td></tr><tr><td class='label'>Ausrichter : </td><td>SCH\n</td></tr
 ><tr><td class='label'>Klassen : </td><td>RG65\n</td></tr></table>
DTSTAMP:20260423T132506
DTSTART;TZID=Europe/Berlin:20181013T100000
DTEND;TZID=Europe/Berlin:20181013T153000
SEQUENCE:0
TRANSP:OPAQUE
END:VEVENT
END:VCALENDAR