BEGIN:VCALENDAR
VERSION:2.0
PRODID:-//jEvents 2.0 for Joomla//EN
CALSCALE:GREGORIAN
METHOD:PUBLISH
BEGIN:VTIMEZONE
TZID:Europe/Berlin
END:VTIMEZONE
BEGIN:VEVENT
UID:762b9ff1f8abf942ff422c99418d2cf4
CATEGORIES:Freundschaft
CREATED:20221024T214220
SUMMARY:RieserSailingCup 9
LOCATION:Unterschneidheim
DESCRIPTION:
DTSTAMP:20260419T161417
DTSTART;TZID=Europe/Berlin:20230617T090000
SEQUENCE:0
TRANSP:OPAQUE
END:VEVENT
END:VCALENDAR