BEGIN:VCALENDAR
VERSION:2.0
PRODID:-//jEvents 2.0 for Joomla//EN
CALSCALE:GREGORIAN
METHOD:PUBLISH
BEGIN:VTIMEZONE
TZID:Europe/Berlin
END:VTIMEZONE
BEGIN:VEVENT
UID:72328adc113d18b79a7d8117264f6a14
CATEGORIES:Schwerpunktrangliste
CREATED:20221026T144748
SUMMARY:Marblehead Frühjahrscup Ohlenstedt
LOCATION:Ohlenstedter Quellsee
DESCRIPTION:
DTSTAMP:20260420T124030
DTSTART;TZID=Europe/Berlin;VALUE=DATE:20230311
DTEND;TZID=Europe/Berlin;VALUE=DATE:20230313
SEQUENCE:0
TRANSP:OPAQUE
END:VEVENT
END:VCALENDAR