BEGIN:VCALENDAR
VERSION:2.0
PRODID:-//jEvents 2.0 for Joomla//EN
CALSCALE:GREGORIAN
METHOD:PUBLISH
BEGIN:VTIMEZONE
TZID:Europe/Berlin
END:VTIMEZONE
BEGIN:VEVENT
UID:3e77e1ecd3833cd88e703fafb16dc93e
CATEGORIES:Abgesagt
CREATED:20221114T103100
SUMMARY:Golf51 Juni-Cup
LOCATION:Rethmar Golf 
DESCRIPTION:
DTSTAMP:20260421T092655
DTSTART;TZID=Europe/Berlin;VALUE=DATE:20230618
DTEND;TZID=Europe/Berlin;VALUE=DATE:20230619
SEQUENCE:0
TRANSP:OPAQUE
END:VEVENT
END:VCALENDAR