BEGIN:VCALENDAR
VERSION:2.0
PRODID:-//jEvents 2.0 for Joomla//EN
CALSCALE:GREGORIAN
METHOD:PUBLISH
BEGIN:VTIMEZONE
TZID:Europe/Berlin
END:VTIMEZONE
BEGIN:VEVENT
UID:27e78d070d79f65472f763405bcaaf67
CATEGORIES:Deutsche Meisterschaft
CREATED:20221115T150218
SUMMARY:Internationale Deutsche Meisterschaft RC Laser
LOCATION:Steinhuder Meer
DESCRIPTION:
CONTACT:Meike Greten
X-EXTRAINFO:Diese E-Mail-Adresse ist vor Spambots geschützt! Zur Anzeige muss JavaScrip
 t eingeschaltet sein.
DTSTAMP:20260420T121547
DTSTART;TZID=Europe/Berlin;VALUE=DATE:20230603
DTEND;TZID=Europe/Berlin;VALUE=DATE:20230605
SEQUENCE:0
TRANSP:OPAQUE
END:VEVENT
END:VCALENDAR