BEGIN:VCALENDAR
VERSION:2.0
PRODID:-//jEvents 2.0 for Joomla//EN
CALSCALE:GREGORIAN
METHOD:PUBLISH
BEGIN:VTIMEZONE
TZID:Europe/Berlin
END:VTIMEZONE
BEGIN:VEVENT
UID:e04f585a68c8262e95719f7ce2ff09c4
CATEGORIES:Rangliste
CREATED:20221120T110128
SUMMARY:Marblehead in Geldern
LOCATION:Heidesee
DESCRIPTION:
DTSTAMP:20260420T093052
DTSTART;TZID=Europe/Berlin;VALUE=DATE:20230708
DTEND;TZID=Europe/Berlin;VALUE=DATE:20230710
SEQUENCE:0
TRANSP:OPAQUE
END:VEVENT
END:VCALENDAR