BEGIN:VCALENDAR
VERSION:2.0
PRODID:-//jEvents 2.0 for Joomla//EN
CALSCALE:GREGORIAN
METHOD:PUBLISH
BEGIN:VTIMEZONE
TZID:Europe/Berlin
END:VTIMEZONE
BEGIN:VEVENT
UID:62d61824396dd8afc0ced25864eebf4c
CATEGORIES:Abgesagt
CREATED:20221121T113507
SUMMARY:IOM Golf51 CUP
LOCATION:Rethmar Golf 
DESCRIPTION:Kombi Regatta Sa RG65 und So IOM\nStartgeld Pro Regatta 10 €, wer für beide
  Regatten meldet 15€ beide Regatten\nGemeinsames Essen am Sa Abend (Preise 
 muss man abwarten)\nÜbernachtung im Camper möglich, teilweise auch mit Stro
 m\nWettfahrtleitungen : Freiwillige gesuchtGruß Hans
X-ALT-DESC;FMTTYPE=text/html:Kombi Regatta Sa RG65 und So IOM<br />Startgeld Pro Regatta 10 €, wer für b
 eide Regatten meldet 15€ beide Regatten<br />Gemeinsames Essen am Sa Abend 
 (Preise muss man abwarten)<br />Übernachtung im Camper möglich, teilweise a
 uch mit Strom<br />Wettfahrtleitungen : Freiwillige gesuchtGruß Hans
DTSTAMP:20260423T164851
DTSTART;TZID=Europe/Berlin;VALUE=DATE:20230611
DTEND;TZID=Europe/Berlin;VALUE=DATE:20230612
SEQUENCE:0
TRANSP:OPAQUE
END:VEVENT
END:VCALENDAR