BEGIN:VCALENDAR
VERSION:2.0
PRODID:-//jEvents 2.0 for Joomla//EN
CALSCALE:GREGORIAN
METHOD:PUBLISH
BEGIN:VTIMEZONE
TZID:Europe/Berlin
END:VTIMEZONE
BEGIN:VEVENT
UID:dba3c480c66b47f28293cb1d57ee8b51
CATEGORIES:Freundschaft
CREATED:20221128T145304
SUMMARY:SEGELTAXI 2023
LOCATION:Unterschneidheim
DESCRIPTION:Am Bucher Stausee bei Schwabsberg in der Nähe von Aalen, BW.\n\nSEGELTAXI i
 st eine Aktion die Spenden sammelt und damit kranken Kindern und ihren Fami
 lien hilft.\nDie Idee SEGELTAXI stammt von einem kranken kleinen Jungen, \n
 der mit Segelyachten als "Taxi" Spenden sammlen wollte für Kinder,\ndenen n
 och schlechter ging als ihm.\nIm Alter von 9 1/2 Jahren ist er an Leukämie 
 gestorben.\nSeine Eltern haben die Idee aufgegriffen und fortgeführt.\nInfo
 s: www.segeltaxi.comDie Freundschaftsregatta soll auch Zuschauern die Geleg
 enheit geben,einmal eine RC-Regatta-Yacht zu steuern.Keine Wertung zum RIES
 ER SAILING CUP.
X-ALT-DESC;FMTTYPE=text/html:Am Bucher Stausee bei Schwabsberg in der Nähe von Aalen, BW.<br /><br />SEG
 ELTAXI ist eine Aktion die Spenden sammelt und damit kranken Kindern und ih
 ren Familien hilft.<br />Die Idee SEGELTAXI stammt von einem kranken kleine
 n Jungen, <br />der mit Segelyachten als "Taxi" Spenden sammlen wollte für 
 Kinder,<br />denen noch schlechter ging als ihm.<br />Im Alter von 9 1/2 Ja
 hren ist er an Leukämie gestorben.<br />Seine Eltern haben die Idee aufgegr
 iffen und fortgeführt.<br />Infos: www.segeltaxi.comDie Freundschaftsregatt
 a soll auch Zuschauern die Gelegenheit geben,einmal eine RC-Regatta-Yacht z
 u steuern.Keine Wertung zum RIESER SAILING CUP.
DTSTAMP:20260419T163039
DTSTART;TZID=Europe/Berlin:20230518T100000
SEQUENCE:0
TRANSP:OPAQUE
END:VEVENT
END:VCALENDAR