BEGIN:VCALENDAR
VERSION:2.0
PRODID:-//jEvents 2.0 for Joomla//EN
CALSCALE:GREGORIAN
METHOD:PUBLISH
BEGIN:VTIMEZONE
TZID:Europe/Berlin
END:VTIMEZONE
BEGIN:VEVENT
UID:0fb4ec00d21a13d7dcd923157c8fac42
CATEGORIES:Internationale Meisterschaft
CREATED:20221130T195145
SUMMARY:ENC Pierrelatte
LOCATION:Pierrelatte
DESCRIPTION:
DTSTAMP:20260425T103301
DTSTART;TZID=Europe/Berlin;VALUE=DATE:20230218
DTEND;TZID=Europe/Berlin;VALUE=DATE:20230221
SEQUENCE:0
TRANSP:OPAQUE
END:VEVENT
END:VCALENDAR