BEGIN:VCALENDAR
VERSION:2.0
PRODID:-//jEvents 2.0 for Joomla//EN
CALSCALE:GREGORIAN
METHOD:PUBLISH
BEGIN:VTIMEZONE
TZID:Europe/Berlin
END:VTIMEZONE
BEGIN:VEVENT
UID:04a93f4dfaa207b4eee2bbd48f168876
CATEGORIES:Abgesagt
CREATED:20221205T130832
SUMMARY:IOM Nikolaus-Cup Ohlenstedt ABGESAGT !!!
LOCATION:Ohlenstedter Quellsee
DESCRIPTION:
X-EXTRAINFO:ABGESAGT !!!
DTSTAMP:20260420T093047
DTSTART;TZID=Europe/Berlin;VALUE=DATE:20231209
DTEND;TZID=Europe/Berlin;VALUE=DATE:20231210
SEQUENCE:0
TRANSP:OPAQUE
END:VEVENT
END:VCALENDAR