BEGIN:VCALENDAR
VERSION:2.0
PRODID:-//jEvents 2.0 for Joomla//EN
CALSCALE:GREGORIAN
METHOD:PUBLISH
BEGIN:VTIMEZONE
TZID:Europe/Berlin
END:VTIMEZONE
BEGIN:VEVENT
UID:889324be5a513cba1ca5755d492d307d
CATEGORIES:Abgesagt
CREATED:20230206T224704
SUMMARY:ABGESAGT IOM Mittsommer-Cup ABGESAGT
LOCATION:Rethmar Golf 
DESCRIPTION:<p>Nach weiteren Absagen kann die Regatta nicht mehr als Rangliste gewertet
  werden.<br /> Sehr Schade - aber ich muss die Regatta leider absagen!</p><
 p><br /> Gruß Hans</p>
DTSTAMP:20260423T140012
DTSTART;TZID=Europe/Berlin;VALUE=DATE:20230624
DTEND;TZID=Europe/Berlin;VALUE=DATE:20230625
SEQUENCE:0
TRANSP:OPAQUE
END:VEVENT
END:VCALENDAR