BEGIN:VCALENDAR
VERSION:2.0
PRODID:-//jEvents 2.0 for Joomla//EN
CALSCALE:GREGORIAN
METHOD:PUBLISH
BEGIN:VTIMEZONE
TZID:Europe/Berlin
END:VTIMEZONE
BEGIN:VEVENT
UID:2437a0bec89755494349175c9c169738
CATEGORIES:Rangliste
CREATED:20230815T192254
SUMMARY:RC-Laser Mützen-Cup 2023
LOCATION:Zwischenahner Segelklub e.V.
DESCRIPTION:RC-Laser Mützen-Cup 2023
CONTACT:Diese E-Mail-Adresse ist vor Spambots geschützt! Zur Anzeige muss JavaScript eingeschaltet sein.
DTSTAMP:20260420T093027
DTSTART;TZID=Europe/Berlin;VALUE=DATE:20231022
DTEND;TZID=Europe/Berlin;VALUE=DATE:20231023
SEQUENCE:0
TRANSP:OPAQUE
END:VEVENT
END:VCALENDAR