BEGIN:VCALENDAR
VERSION:2.0
PRODID:-//jEvents 2.0 for Joomla//EN
CALSCALE:GREGORIAN
METHOD:PUBLISH
BEGIN:VTIMEZONE
TZID:Europe/Berlin
END:VTIMEZONE
BEGIN:VEVENT
UID:e9c59bde5fb60a0bf97bb4b210c2c9ca
CATEGORIES:Freundschaft
CREATED:20231025T220039
SUMMARY:RieserSailingCup 4
LOCATION:Unterschneidheim
DESCRIPTION:
DTSTAMP:20260419T133530
DTSTART;TZID=Europe/Berlin:20240414T100000
SEQUENCE:0
TRANSP:OPAQUE
END:VEVENT
END:VCALENDAR