BEGIN:VCALENDAR
VERSION:2.0
PRODID:-//jEvents 2.0 for Joomla//EN
CALSCALE:GREGORIAN
METHOD:PUBLISH
BEGIN:VTIMEZONE
TZID:Europe/Berlin
END:VTIMEZONE
BEGIN:VEVENT
UID:368cedbc347afd2a87581d0e5d97a548
CATEGORIES:Europameisterschaft
CREATED:20231106T185626
SUMMARY:RG 65 EM in Pierrelatte
LOCATION:Pierrelatte
DESCRIPTION:
DTSTAMP:20260420T124050
DTSTART;TZID=Europe/Berlin;VALUE=DATE:20241207
DTEND;TZID=Europe/Berlin;VALUE=DATE:20241210
SEQUENCE:0
TRANSP:OPAQUE
END:VEVENT
END:VCALENDAR