BEGIN:VCALENDAR
VERSION:2.0
PRODID:-//jEvents 2.0 for Joomla//EN
CALSCALE:GREGORIAN
METHOD:PUBLISH
BEGIN:VTIMEZONE
TZID:Europe/Berlin
END:VTIMEZONE
BEGIN:VEVENT
UID:6ba51bd5a82cfbe1737cc21a7eb0ac82
CATEGORIES:Rangliste
CREATED:20231111T195645
SUMMARY:RG65 Holo 2
LOCATION:Fischzucht Knutzen
DESCRIPTION:
CONTACT:Diese E-Mail-Adresse ist vor Spambots geschützt! Zur Anzeige muss JavaScript eingeschaltet sein.
DTSTAMP:20260423T135015
DTSTART;TZID=Europe/Berlin;VALUE=DATE:20240901
DTEND;TZID=Europe/Berlin;VALUE=DATE:20240902
SEQUENCE:0
TRANSP:OPAQUE
END:VEVENT
END:VCALENDAR