BEGIN:VCALENDAR
VERSION:2.0
PRODID:-//jEvents 2.0 for Joomla//EN
CALSCALE:GREGORIAN
METHOD:PUBLISH
BEGIN:VTIMEZONE
TZID:Europe/Berlin
END:VTIMEZONE
BEGIN:VEVENT
UID:6827fe91bb1f50288929b72b3913234a
CATEGORIES:Abgesagt
CREATED:20231112T171725
SUMMARY:IOM CUP Toeppersee   E N T F Ä L L T
LOCATION:Toeppersee
DESCRIPTION:
CONTACT:Helmut Tiedemann
DTSTAMP:20260421T085709
DTSTART;TZID=Europe/Berlin;VALUE=DATE:20240309
DTEND;TZID=Europe/Berlin;VALUE=DATE:20240311
SEQUENCE:0
TRANSP:OPAQUE
END:VEVENT
END:VCALENDAR