BEGIN:VCALENDAR
VERSION:2.0
PRODID:-//jEvents 2.0 for Joomla//EN
CALSCALE:GREGORIAN
METHOD:PUBLISH
BEGIN:VTIMEZONE
TZID:Europe/Berlin
END:VTIMEZONE
BEGIN:VEVENT
UID:c89008c2d2eb35e2bb72fb2f3539ab74
CATEGORIES:Freundschaft
CREATED:20231114T211647
SUMMARY:Neujahrsregatta DF95 
LOCATION:Bremerhaven 
DESCRIPTION:
DTSTAMP:20260425T103256
DTSTART;TZID=Europe/Berlin;VALUE=DATE:20240106
DTEND;TZID=Europe/Berlin;VALUE=DATE:20240107
SEQUENCE:0
TRANSP:OPAQUE
END:VEVENT
END:VCALENDAR