BEGIN:VCALENDAR
VERSION:2.0
PRODID:-//jEvents 2.0 for Joomla//EN
CALSCALE:GREGORIAN
METHOD:PUBLISH
BEGIN:VTIMEZONE
TZID:Europe/Berlin
END:VTIMEZONE
BEGIN:VEVENT
UID:d4f0b9adb956eba0cdca8262a27be263
CATEGORIES:Abgesagt
CREATED:20231122T114540
SUMMARY:ABGESAGT - RG65 Herbstregatta Feringasee
LOCATION:Feringasee
DESCRIPTION:
DTSTAMP:20260422T104829
DTSTART;TZID=Europe/Berlin;VALUE=DATE:20241012
DTEND;TZID=Europe/Berlin;VALUE=DATE:20241013
SEQUENCE:0
TRANSP:OPAQUE
END:VEVENT
END:VCALENDAR