BEGIN:VCALENDAR
VERSION:2.0
PRODID:-//jEvents 2.0 for Joomla//EN
CALSCALE:GREGORIAN
METHOD:PUBLISH
BEGIN:VTIMEZONE
TZID:Europe/Berlin
END:VTIMEZONE
BEGIN:VEVENT
UID:038e5dc24b5085cce37fef0f30f38945
CATEGORIES:Internationale Meisterschaft
CREATED:20231128T163251
SUMMARY:ENC Pierrelatte / FRA
LOCATION:Pierrelatte
DESCRIPTION:<p>2 Tage ENC Marblehead gefolgt von 2 ENC 10R</p>
DTSTAMP:20260419T161306
DTSTART;TZID=Europe/Berlin;VALUE=DATE:20241031
DTEND;TZID=Europe/Berlin;VALUE=DATE:20241102
SEQUENCE:0
TRANSP:OPAQUE
END:VEVENT
END:VCALENDAR