BEGIN:VCALENDAR
VERSION:2.0
PRODID:-//jEvents 2.0 for Joomla//EN
CALSCALE:GREGORIAN
METHOD:PUBLISH
BEGIN:VTIMEZONE
TZID:Europe/Berlin
END:VTIMEZONE
BEGIN:VEVENT
UID:467e40b8a3d66ecfedd909769dd69346
CATEGORIES:Seminar/Schulung
CREATED:20240112T151351
SUMMARY:JHV 2024 DKVRCS e.V. und Seminar/Workshop
LOCATION:Dümmer See\, SC Dümmer
DESCRIPTION:
DTSTAMP:20260420T205856
DTSTART;TZID=Europe/Berlin;VALUE=DATE:20240224
DTEND;TZID=Europe/Berlin;VALUE=DATE:20240225
SEQUENCE:0
TRANSP:OPAQUE
END:VEVENT
END:VCALENDAR