BEGIN:VCALENDAR
VERSION:2.0
PRODID:-//jEvents 2.0 for Joomla//EN
CALSCALE:GREGORIAN
METHOD:PUBLISH
BEGIN:VTIMEZONE
TZID:Europe/Berlin
END:VTIMEZONE
BEGIN:VEVENT
UID:9e3f32d7274bef7711c357291f5e29a9
CATEGORIES:Abgesagt
CREATED:20240128T183832
SUMMARY: M-Boot abgesagt
DESCRIPTION:
X-EXTRAINFO:Ausschreibung kommt in den nächsten Tagen
DTSTAMP:20260423T140558
DTSTART;TZID=Europe/Berlin;VALUE=DATE:20240323
DTEND;TZID=Europe/Berlin;VALUE=DATE:20240324
SEQUENCE:0
TRANSP:OPAQUE
END:VEVENT
END:VCALENDAR