BEGIN:VCALENDAR
VERSION:2.0
PRODID:-//jEvents 2.0 for Joomla//EN
CALSCALE:GREGORIAN
METHOD:PUBLISH
BEGIN:VTIMEZONE
TZID:Europe/Berlin
END:VTIMEZONE
BEGIN:VEVENT
UID:fa29f83cbe65b2a35f8aab39778d39d3
CATEGORIES:Abgesagt
CREATED:20240319T105901
SUMMARY:RL M Boot
LOCATION:Seepark Ternsche
DESCRIPTION:
DTSTAMP:20260423T115255
DTSTART;TZID=Europe/Berlin;VALUE=DATE:20240409
DTEND;TZID=Europe/Berlin;VALUE=DATE:20240410
SEQUENCE:0
TRANSP:OPAQUE
END:VEVENT
END:VCALENDAR