BEGIN:VCALENDAR
VERSION:2.0
PRODID:-//jEvents 2.0 for Joomla//EN
CALSCALE:GREGORIAN
METHOD:PUBLISH
BEGIN:VTIMEZONE
TZID:Europe/Berlin
END:VTIMEZONE
BEGIN:VEVENT
UID:8ed85644a4405b632b815e091acc3b16
CATEGORIES:Internationale Meisterschaft
CREATED:20240404T201654
SUMMARY:Dutch Championship
LOCATION:Biddinghuizen\, Niederlande
DESCRIPTION:Biddinghuizen, Niederlande\n
X-ALT-DESC;FMTTYPE=text/html:<p>Biddinghuizen, Niederlande</p>
DTSTAMP:20260421T144828
DTSTART;TZID=Europe/Berlin;VALUE=DATE:20241019
DTEND;TZID=Europe/Berlin;VALUE=DATE:20241021
SEQUENCE:0
TRANSP:OPAQUE
END:VEVENT
END:VCALENDAR