BEGIN:VCALENDAR
VERSION:2.0
PRODID:-//jEvents 2.0 for Joomla//EN
CALSCALE:GREGORIAN
METHOD:PUBLISH
BEGIN:VTIMEZONE
TZID:Europe/Berlin
END:VTIMEZONE
BEGIN:VEVENT
UID:80d66e1259e213c123473cd5fca8ccea
CATEGORIES:Abgesagt
CREATED:20240613T095421
SUMMARY:RC Laser Freundschaftsregatta Rethmar ABGESAGT
LOCATION:Rethmar Golf 
DESCRIPTION:
DTSTAMP:20260425T154704
DTSTART;TZID=Europe/Berlin;VALUE=DATE:20240630
DTEND;TZID=Europe/Berlin;VALUE=DATE:20240701
SEQUENCE:0
TRANSP:OPAQUE
END:VEVENT
END:VCALENDAR