BEGIN:VCALENDAR
VERSION:2.0
PRODID:-//jEvents 2.0 for Joomla//EN
CALSCALE:GREGORIAN
METHOD:PUBLISH
BEGIN:VTIMEZONE
TZID:Europe/Berlin
END:VTIMEZONE
BEGIN:VEVENT
UID:2a2bcfd00ee4693a6f4201dea2730796
CATEGORIES:Internationale Meisterschaft
CREATED:19700101T010000
SUMMARY:French Championship
LOCATION:Frankreich
DESCRIPTION:
DTSTAMP:20260420T141746
DTSTART;TZID=Europe/Berlin;VALUE=DATE:20250607
DTEND;TZID=Europe/Berlin;VALUE=DATE:20250610
SEQUENCE:0
TRANSP:OPAQUE
END:VEVENT
END:VCALENDAR