BEGIN:VCALENDAR
VERSION:2.0
PRODID:-//jEvents 2.0 for Joomla//EN
CALSCALE:GREGORIAN
METHOD:PUBLISH
BEGIN:VTIMEZONE
TZID:Europe/Berlin
END:VTIMEZONE
BEGIN:VEVENT
UID:ae9955007fc4f99d849d4bcc81ef8e3b
CATEGORIES:Abgesagt
CREATED:20241109T130616
SUMMARY:RieserSailingCup IOM
LOCATION:Unterschneidheim
DESCRIPTION:Der See in Unterschneidheim ist für eine RC-Regatta nicht mehr geeignet!\nD
 ie RC-Regatten am 04.+05.10.2025 müssen leider ausfallen!\n
X-ALT-DESC;FMTTYPE=text/html:<p>Der See in Unterschneidheim ist für eine RC-Regatta nicht mehr geeignet!
 </p><p><strong>Die RC-Regatten am 04.+05.10.2025 müssen leider ausfallen!</
 strong></p>
DTSTAMP:20260423T151248
DTSTART;TZID=Europe/Berlin:20251004T100000
DTEND;TZID=Europe/Berlin:20251005T150000
SEQUENCE:0
TRANSP:OPAQUE
END:VEVENT
END:VCALENDAR