BEGIN:VCALENDAR
VERSION:2.0
PRODID:-//jEvents 2.0 for Joomla//EN
CALSCALE:GREGORIAN
METHOD:PUBLISH
BEGIN:VTIMEZONE
TZID:Europe/Berlin
END:VTIMEZONE
BEGIN:VEVENT
UID:78d91f134c5e064c1e5ab50f64d079e2
CATEGORIES:Freundschaft
CREATED:20241220T135507
SUMMARY:10 Rater Cup Lenzerheide
LOCATION:kleiner Heidsee
DESCRIPTION:
CONTACT:Urban Großholz / Urs Blum / Thomy Blatter
X-EXTRAINFO:Ausschreibung folgt 2025
DTSTAMP:20260422T142656
DTSTART;TZID=Europe/Berlin;VALUE=DATE:20250825
DTEND;TZID=Europe/Berlin;VALUE=DATE:20250828
SEQUENCE:0
TRANSP:OPAQUE
END:VEVENT
END:VCALENDAR