BEGIN:VCALENDAR
VERSION:2.0
PRODID:-//jEvents 2.0 for Joomla//EN
CALSCALE:GREGORIAN
METHOD:PUBLISH
BEGIN:VTIMEZONE
TZID:Europe/Berlin
END:VTIMEZONE
BEGIN:VEVENT
UID:52234bb6d9b4d680f897f5e3da18d7ff
CATEGORIES:Rangliste
CREATED:20250220T154352
SUMMARY:Marblehead Herbstregatta Feringasee
LOCATION:Feringasee
DESCRIPTION:
DTSTAMP:20260421T092439
DTSTART;TZID=Europe/Berlin;VALUE=DATE:20251025
DTEND;TZID=Europe/Berlin;VALUE=DATE:20251027
SEQUENCE:0
TRANSP:OPAQUE
END:VEVENT
END:VCALENDAR