BEGIN:VCALENDAR
VERSION:2.0
PRODID:-//jEvents 2.0 for Joomla//EN
CALSCALE:GREGORIAN
METHOD:PUBLISH
BEGIN:VTIMEZONE
TZID:Europe/Berlin
END:VTIMEZONE
BEGIN:VEVENT
UID:bf062e7d1b73a822e051644ed77fa6bf
CATEGORIES:Rangliste
CREATED:20250323T172334
SUMMARY:RC Laser Dümmer-Cup
LOCATION:Dümmer See/SCD
DESCRIPTION:
CONTACT:Diese E-Mail-Adresse ist vor Spambots geschützt! Zur Anzeige muss JavaScript eingeschaltet sein.
DTSTAMP:20260421T130456
DTSTART;TZID=Europe/Berlin;VALUE=DATE:20250810
DTEND;TZID=Europe/Berlin;VALUE=DATE:20250811
SEQUENCE:0
TRANSP:OPAQUE
END:VEVENT
END:VCALENDAR