BEGIN:VCALENDAR
VERSION:2.0
PRODID:-//jEvents 2.0 for Joomla//EN
CALSCALE:GREGORIAN
METHOD:PUBLISH
BEGIN:VTIMEZONE
TZID:Europe/Berlin
BEGIN:STANDARD
DTSTART:20161030T020000
RDATE:20170326T030000
TZOFFSETFROM:+0200
TZOFFSETTO:+0100
TZNAME:Europe/Berlin CET
END:STANDARD
BEGIN:STANDARD
DTSTART:20171029T020000
RDATE:20180325T030000
TZOFFSETFROM:+0200
TZOFFSETTO:+0100
TZNAME:Europe/Berlin CET
END:STANDARD
BEGIN:STANDARD
DTSTART:20181028T020000
RDATE:20190331T030000
TZOFFSETFROM:+0200
TZOFFSETTO:+0100
TZNAME:Europe/Berlin CET
END:STANDARD
BEGIN:STANDARD
DTSTART:20191027T020000
RDATE:20200329T030000
TZOFFSETFROM:+0200
TZOFFSETTO:+0100
TZNAME:Europe/Berlin CET
END:STANDARD
BEGIN:STANDARD
DTSTART:20201025T020000
RDATE:20210328T030000
TZOFFSETFROM:+0200
TZOFFSETTO:+0100
TZNAME:Europe/Berlin CET
END:STANDARD
BEGIN:DAYLIGHT
DTSTART:20160821T000000
RDATE:20161030T020000
TZOFFSETFROM:+0100
TZOFFSETTO:+0200
TZNAME:Europe/Berlin CEST
END:DAYLIGHT
BEGIN:DAYLIGHT
DTSTART:20170326T030000
RDATE:20171029T020000
TZOFFSETFROM:+0100
TZOFFSETTO:+0200
TZNAME:Europe/Berlin CEST
END:DAYLIGHT
BEGIN:DAYLIGHT
DTSTART:20180325T030000
RDATE:20181028T020000
TZOFFSETFROM:+0100
TZOFFSETTO:+0200
TZNAME:Europe/Berlin CEST
END:DAYLIGHT
BEGIN:DAYLIGHT
DTSTART:20190331T030000
RDATE:20191027T020000
TZOFFSETFROM:+0100
TZOFFSETTO:+0200
TZNAME:Europe/Berlin CEST
END:DAYLIGHT
BEGIN:DAYLIGHT
DTSTART:20200329T030000
RDATE:20201025T020000
TZOFFSETFROM:+0100
TZOFFSETTO:+0200
TZNAME:Europe/Berlin CEST
END:DAYLIGHT
END:VTIMEZONE
BEGIN:VEVENT
UID:c8e1c695191734ec6bd183df0505063b
CATEGORIES:Internationale Meisterschaft
CREATED:20161115T141802
SUMMARY:A-Class Grischun Cup
LOCATION:kleiner Heidsee
DESCRIPTION:A-Class Grischun Cup &amp; Matchrace\nVeranstalter : RC-Sailing / MYCS\nAus
 richter : RC-Sailing\nKlassen : A\nAusschreibung : A Class 2017 .pdf\n
X-ALT-DESC;FMTTYPE=text/html:<p>A-Class Grischun Cup & Matchrace</p><table border='0'><tr><td class='lab
 el'>Veranstalter : </td><td>RC-Sailing / MYCS\n</td></tr><tr><td class='lab
 el'>Ausrichter : </td><td>RC-Sailing\n</td></tr><tr><td class='label'>Klass
 en : </td><td>A\n</td></tr><tr><td class='label'>Ausschreibung : </td><td><
 a href='https://www.radiosailing.de/images/jevents/58cb992f7d4715.91029324.
 pdf' target='_blank'>A Class 2017 .pdf</a>\n</td></tr></table>
DTSTAMP:20260420T145150
DTSTART;TZID=Europe/Berlin;VALUE=DATE:20170822
DTEND;TZID=Europe/Berlin;VALUE=DATE:20170823
SEQUENCE:0
TRANSP:OPAQUE
END:VEVENT
END:VCALENDAR