BEGIN:VCALENDAR
VERSION:2.0
PRODID:-//jEvents 2.0 for Joomla//EN
CALSCALE:GREGORIAN
METHOD:PUBLISH
BEGIN:VTIMEZONE
TZID:Europe/Berlin
BEGIN:STANDARD
DTSTART:20171029T020000
RDATE:20180325T030000
TZOFFSETFROM:+0200
TZOFFSETTO:+0100
TZNAME:Europe/Berlin CET
END:STANDARD
BEGIN:STANDARD
DTSTART:20181028T020000
RDATE:20190331T030000
TZOFFSETFROM:+0200
TZOFFSETTO:+0100
TZNAME:Europe/Berlin CET
END:STANDARD
BEGIN:STANDARD
DTSTART:20191027T020000
RDATE:20200329T030000
TZOFFSETFROM:+0200
TZOFFSETTO:+0100
TZNAME:Europe/Berlin CET
END:STANDARD
BEGIN:STANDARD
DTSTART:20201025T020000
RDATE:20210328T030000
TZOFFSETFROM:+0200
TZOFFSETTO:+0100
TZNAME:Europe/Berlin CET
END:STANDARD
BEGIN:DAYLIGHT
DTSTART:20170426T000000
RDATE:20171029T020000
TZOFFSETFROM:+0100
TZOFFSETTO:+0200
TZNAME:Europe/Berlin CEST
END:DAYLIGHT
BEGIN:DAYLIGHT
DTSTART:20180325T030000
RDATE:20181028T020000
TZOFFSETFROM:+0100
TZOFFSETTO:+0200
TZNAME:Europe/Berlin CEST
END:DAYLIGHT
BEGIN:DAYLIGHT
DTSTART:20190331T030000
RDATE:20191027T020000
TZOFFSETFROM:+0100
TZOFFSETTO:+0200
TZNAME:Europe/Berlin CEST
END:DAYLIGHT
BEGIN:DAYLIGHT
DTSTART:20200329T030000
RDATE:20201025T020000
TZOFFSETFROM:+0100
TZOFFSETTO:+0200
TZNAME:Europe/Berlin CEST
END:DAYLIGHT
END:VTIMEZONE
BEGIN:VEVENT
UID:c7b318fdb75015a282882c183ca2a02a
CATEGORIES:Internationale Meisterschaft
CREATED:20180206T100935
SUMMARY:French Champioship Valenciennes 2018
DESCRIPTION:Französische Meisterschaft;\n \n Meldung auf dem auch in der NOR angegebene
 n Link\n https://www.inscription-facile.com/form/6hQG1tCP7V8Cjhu62gDc\n \n 
 Registrierung 27.4. 14:00 - 19:00 Uhr, 28.4. 8:30 - 10:00 Uhr\n Segeln ab 2
 8.4. 11:00 Uhr bis 1.5. ca. 15:30 Uhr\n Siegerehrung 1.5. nach den letzten 
 Rennen\n\n\n
X-ALT-DESC;FMTTYPE=text/html:<p>Französische Meisterschaft;<br /> <br /> Meldung auf dem auch in der NOR
  angegebenen Link<br /> https://www.inscription-facile.com/form/6hQG1tCP7V8
 Cjhu62gDc<br /> <br /> Registrierung 27.4. 14:00 - 19:00 Uhr, 28.4. 8:30 - 
 10:00 Uhr<br /> Segeln ab 28.4. 11:00 Uhr bis 1.5. ca. 15:30 Uhr<br /> Sieg
 erehrung 1.5. nach den letzten Rennen<br /><br /></p>
DTSTAMP:20260423T134619
DTSTART;TZID=Europe/Berlin;VALUE=DATE:20180427
DTEND;TZID=Europe/Berlin;VALUE=DATE:20180502
SEQUENCE:0
TRANSP:OPAQUE
END:VEVENT
END:VCALENDAR