BEGIN:VCALENDAR
VERSION:2.0
PRODID:-//jEvents 2.0 for Joomla//EN
CALSCALE:GREGORIAN
METHOD:PUBLISH
BEGIN:VTIMEZONE
TZID:Europe/Berlin
BEGIN:STANDARD
DTSTART:20191027T020000
RDATE:20200329T030000
TZOFFSETFROM:+0200
TZOFFSETTO:+0100
TZNAME:Europe/Berlin CET
END:STANDARD
BEGIN:STANDARD
DTSTART:20201025T020000
RDATE:20210328T030000
TZOFFSETFROM:+0200
TZOFFSETTO:+0100
TZNAME:Europe/Berlin CET
END:STANDARD
BEGIN:DAYLIGHT
DTSTART:20191024T100000
RDATE:20191027T020000
TZOFFSETFROM:+0100
TZOFFSETTO:+0200
TZNAME:Europe/Berlin CEST
END:DAYLIGHT
BEGIN:DAYLIGHT
DTSTART:20200329T030000
RDATE:20201025T020000
TZOFFSETFROM:+0100
TZOFFSETTO:+0200
TZNAME:Europe/Berlin CEST
END:DAYLIGHT
END:VTIMEZONE
BEGIN:VEVENT
UID:bc2fd24aa436571a79d5aa7e09c4a72d
CATEGORIES:Freundschaft
CREATED:20191201T130829
SUMMARY: Open Dutch Nationals
DESCRIPTION:Diese E-Mail-Adresse ist vor Spambots geschützt! Zur Anzeige muss JavaScrip
 t eingeschaltet sein.\nhttp://www.iomzeilen.nl/index.html
X-ALT-DESC;FMTTYPE=text/html:<joomla-hidden-mail  is-link="1" is-email="1" first="aW5mbw==" last="aW9tem
 VpbGVuLm5s" text="aW5mb0Bpb216ZWlsZW4ubmw=" base="" >Diese E-Mail-Adresse i
 st vor Spambots geschützt! Zur Anzeige muss JavaScript eingeschaltet sein.<
 /joomla-hidden-mail><br />http://www.iomzeilen.nl/index.html
DTSTAMP:20260425T135538
DTSTART;TZID=Europe/Berlin:20201024T100000
DTEND;TZID=Europe/Berlin:20201025T143000
SEQUENCE:0
TRANSP:OPAQUE
END:VEVENT
END:VCALENDAR