BEGIN:VCALENDAR
VERSION:2.0
PRODID:-//jEvents 2.0 for Joomla//EN
CALSCALE:GREGORIAN
METHOD:PUBLISH
BEGIN:VTIMEZONE
TZID:Europe/Berlin
BEGIN:STANDARD
DTSTART:20190314T000000
RDATE:20190331T030000
TZOFFSETFROM:+0200
TZOFFSETTO:+0100
TZNAME:Europe/Berlin CET
END:STANDARD
BEGIN:STANDARD
DTSTART:20191027T020000
RDATE:20200329T030000
TZOFFSETFROM:+0200
TZOFFSETTO:+0100
TZNAME:Europe/Berlin CET
END:STANDARD
BEGIN:STANDARD
DTSTART:20201025T020000
RDATE:20210328T030000
TZOFFSETFROM:+0200
TZOFFSETTO:+0100
TZNAME:Europe/Berlin CET
END:STANDARD
BEGIN:DAYLIGHT
DTSTART:20190331T030000
RDATE:20191027T020000
TZOFFSETFROM:+0100
TZOFFSETTO:+0200
TZNAME:Europe/Berlin CEST
END:DAYLIGHT
BEGIN:DAYLIGHT
DTSTART:20200329T030000
RDATE:20201025T020000
TZOFFSETFROM:+0100
TZOFFSETTO:+0200
TZNAME:Europe/Berlin CEST
END:DAYLIGHT
END:VTIMEZONE
BEGIN:VEVENT
UID:f8c2e8482e5d78a2ac4fb97efbebff4c
CATEGORIES:Abgesagt
CREATED:20200110T131517
SUMMARY:ABGESAGT Söruper Frühjahrsrangliste
LOCATION:Südensee
DESCRIPTION:<p><strong>Mangels Teilnehmer ist die Regatta abgesagt und wird evtl. für d
 en Herbst neu ausgeschrieben</strong></p>
DTSTAMP:20260420T094333
DTSTART;TZID=Europe/Berlin;VALUE=DATE:20200314
DTEND;TZID=Europe/Berlin;VALUE=DATE:20200316
SEQUENCE:0
TRANSP:OPAQUE
END:VEVENT
END:VCALENDAR