BEGIN:VCALENDAR
VERSION:2.0
PRODID:-//jEvents 2.0 for Joomla//EN
CALSCALE:GREGORIAN
METHOD:PUBLISH
BEGIN:VTIMEZONE
TZID:Europe/Berlin
BEGIN:STANDARD
DTSTART:20200320T000000
RDATE:20200329T030000
TZOFFSETFROM:+0200
TZOFFSETTO:+0100
TZNAME:Europe/Berlin CET
END:STANDARD
BEGIN:STANDARD
DTSTART:20201025T020000
RDATE:20210328T030000
TZOFFSETFROM:+0200
TZOFFSETTO:+0100
TZNAME:Europe/Berlin CET
END:STANDARD
BEGIN:DAYLIGHT
DTSTART:20200329T030000
RDATE:20201025T020000
TZOFFSETFROM:+0100
TZOFFSETTO:+0200
TZNAME:Europe/Berlin CEST
END:DAYLIGHT
END:VTIMEZONE
BEGIN:VEVENT
UID:b19d6207b4107b6263c05c57e372b90b
CATEGORIES:Freundschaft
CREATED:20210303T104239
SUMMARY:Wäller Kontakt
LOCATION:Wiesensee
DESCRIPTION:Wäller RC-Segler treffen sich mit Maske und Abstand zur Eröffnung der RC-Se
 gelsaison 2021 \nEs geht um: Schiff mal wieder schwimmen lassen, Kennenlern
 en, Technik-Klönsnack für zwei Stunden. \nSonntag, 21.03.2021/ 10.00 Uhr Wi
 esensee/ Winner Ufer 2, Stahlhofen am Wiesensee/ Parkplatz, Cafe-Bistro "Se
 ewies" (http://cafe-seewies.de/), dort am Damm ist eine ordentliche offene 
 Hütte mit Tisch, Bänken und Wasserzugang. Bring ein Schiffchen mit. Wir erö
 ffnen schnell mal die Saison. 
X-ALT-DESC;FMTTYPE=text/html:Wäller RC-Segler treffen sich mit Maske und Abstand zur Eröffnung der RC-Se
 gelsaison 2021 <br />Es geht um: Schiff mal wieder schwimmen lassen, Kennen
 lernen, Technik-Klönsnack für zwei Stunden. <br />Sonntag, 21.03.2021/ 10.0
 0 Uhr Wiesensee/ Winner Ufer 2, Stahlhofen am Wiesensee/ Parkplatz, Cafe-Bi
 stro "Seewies" (http://cafe-seewies.de/), dort am Damm ist eine ordentliche
  offene Hütte mit Tisch, Bänken und Wasserzugang. Bring ein Schiffchen mit.
  Wir eröffnen schnell mal die Saison. 
DTSTAMP:20260421T094338
DTSTART;TZID=Europe/Berlin;VALUE=DATE:20210321
DTEND;TZID=Europe/Berlin;VALUE=DATE:20210322
SEQUENCE:0
TRANSP:OPAQUE
END:VEVENT
END:VCALENDAR