BEGIN:VCALENDAR
VERSION:2.0
PRODID:-//jEvents 2.0 for Joomla//EN
CALSCALE:GREGORIAN
METHOD:PUBLISH
BEGIN:VTIMEZONE
TZID:Europe/Berlin
BEGIN:STANDARD
DTSTART:20201106T000000
RDATE:20210328T030000
TZOFFSETFROM:+0200
TZOFFSETTO:+0100
TZNAME:Europe/Berlin CET
END:STANDARD
END:VTIMEZONE
BEGIN:VEVENT
UID:f798e58cbbe2bf8c6dbadd6a02933223
CATEGORIES:Freundschaft
CREATED:20210314T000240
SUMMARY:Rieser Sailing Cup 18
LOCATION:Unterschneidheim
DESCRIPTION:
CONTACT:www.rc-regatta.de 
DTSTAMP:20260421T130309
DTSTART;TZID=Europe/Berlin;VALUE=DATE:20211107
DTEND;TZID=Europe/Berlin;VALUE=DATE:20211108
SEQUENCE:0
TRANSP:OPAQUE
END:VEVENT
END:VCALENDAR