BEGIN:VCALENDAR
VERSION:2.0
PRODID:-//jEvents 2.0 for Joomla//EN
CALSCALE:GREGORIAN
METHOD:PUBLISH
BEGIN:VTIMEZONE
TZID:Europe/Berlin
END:VTIMEZONE
BEGIN:VEVENT
UID:4efc5f6aa00af82ad557a354c7c221d7
CATEGORIES:Freundschaft
CREATED:20211025T013947
SUMMARY:RieserSailingCup-Training
LOCATION:Unterschneidheim
DESCRIPTION:Freitag, "Brückentag"
DTSTAMP:20260425T102242
DTSTART;TZID=Europe/Berlin:20220527T090000
SEQUENCE:0
TRANSP:OPAQUE
END:VEVENT
END:VCALENDAR