BEGIN:VCALENDAR
VERSION:2.0
PRODID:-//jEvents 2.0 for Joomla//EN
CALSCALE:GREGORIAN
METHOD:PUBLISH
BEGIN:VTIMEZONE
TZID:Europe/Berlin
END:VTIMEZONE
BEGIN:VEVENT
UID:c8401996f6b7b330b0cadd5305f95261
CATEGORIES:Rangliste
CREATED:20211120T172550
SUMMARY:Marblehead WRK Herbst
LOCATION:Toeppersee
DESCRIPTION:
CONTACT:Helmut Tiedemann
DTSTAMP:20260423T170359
DTSTART;TZID=Europe/Berlin;VALUE=DATE:20221113
DTEND;TZID=Europe/Berlin;VALUE=DATE:20221114
SEQUENCE:0
TRANSP:OPAQUE
END:VEVENT
END:VCALENDAR