BEGIN:VCALENDAR
VERSION:2.0
PRODID:-//jEvents 2.0 for Joomla//EN
CALSCALE:GREGORIAN
METHOD:PUBLISH
BEGIN:VTIMEZONE
TZID:Europe/Berlin
END:VTIMEZONE
BEGIN:VEVENT
UID:b7a2053e1bd95bc4765a620e5c5607f4
CATEGORIES:Rangliste
CREATED:20211122T130851
SUMMARY:IOM Frühjahrsregatta Feringasee
LOCATION:Feringasee
DESCRIPTION:
CONTACT:Valentin Fuchs
DTSTAMP:20260425T120357
DTSTART;TZID=Europe/Berlin;VALUE=DATE:20220326
DTEND;TZID=Europe/Berlin;VALUE=DATE:20220328
SEQUENCE:0
TRANSP:OPAQUE
END:VEVENT
END:VCALENDAR