BEGIN:VCALENDAR
VERSION:2.0
PRODID:-//jEvents 2.0 for Joomla//EN
CALSCALE:GREGORIAN
METHOD:PUBLISH
BEGIN:VTIMEZONE
TZID:Europe/Berlin
END:VTIMEZONE
BEGIN:VEVENT
UID:3880ecf0a259d3df0873389a1787a12f
CATEGORIES:Abgesagt
CREATED:20220202T074305
SUMMARY:Golf51 Cup-9
LOCATION:Rethmar Golf 
DESCRIPTION:
DTSTAMP:20260422T142008
DTSTART;TZID=Europe/Berlin;VALUE=DATE:20220821
DTEND;TZID=Europe/Berlin;VALUE=DATE:20220822
SEQUENCE:0
TRANSP:OPAQUE
END:VEVENT
END:VCALENDAR